BEGIN:VCALENDAR
VERSION:2.0
PRODID:SchoolNow
CALSCALE:GREGORIAN
BEGIN:VEVENT
UID:b709e044-655f-11ef-bd7d-0e93ce3a631d
DTSTAMP:20241203T104951Z
SUMMARY:CDD Board Meeting- Dec. 2024
LOCATION:Diamond Hill Community Center\, located at 2902 Copper Heigt Ct\, 
 Valrico\, Florida 33594
URL;VALUE=URI:https://www.diamondhillcdd.org/calendar/6474132/cdd-board-mee
 ting-dec-2024
DTSTART:20241209T190000Z
DTEND:20241209T200000Z
ATTACH;FILENAME=2024-12-09 AGENDA PACKAGE DHCDD.pdf;FMTTYPE=application/pdf
 :https://campussuite-storage.s3.amazonaws.com/prod/1558889/bc537cb2-ea9a-1
 1e9-a44e-0a31933f87ea/2886231/4df63e62-b164-11ef-8851-0afff67be2a3/file/20
 24-12-09 AGENDA PACKAGE DHCDD.pdf
END:VEVENT
END:VCALENDAR
