BEGIN:VCALENDAR
VERSION:2.0
PRODID:SchoolNow
CALSCALE:GREGORIAN
BEGIN:VEVENT
UID:c4945be0-655f-11ef-9636-025dfa0c56f3
DTSTAMP:20250205T215524Z
SUMMARY:CDD Board Meeting- Feb. 2025
LOCATION:Diamond Hill Community Center\, located at 2902 Copper Height Ct\,
  Valrico\, Florida 33594
URL;VALUE=URI:https://www.diamondhillcdd.org/calendar/6474133/cdd-board-mee
 ting-feb-2025
DTSTART:20250210T190000Z
DTEND:20250210T200000Z
ATTACH;FILENAME=2025-02-10 Diamond Hill CDD Agenda Package _ REVISED.pdf;FM
 TTYPE=application/pdf:https://campussuite-storage.s3.amazonaws.com/prod/15
 58889/bc537cb2-ea9a-11e9-a44e-0a31933f87ea/2911958/e11d6a10-e40b-11ef-b404
 -0ea45201d087/file/2025-02-10 Diamond Hill CDD Agenda Package _ REVISED.pd
 f
END:VEVENT
END:VCALENDAR
