BEGIN:VCALENDAR
VERSION:2.0
PRODID:SchoolNow
CALSCALE:GREGORIAN
BEGIN:VEVENT
UID:d06495de-655f-11ef-8e43-0ed18aa606b3
DTSTAMP:20250408T141921Z
SUMMARY:CDD Board Meeting- Apr. 2025
LOCATION:Diamond Hill Community Center\, located at 2902 Copper Height Ct\,
  Valrico\, Florida 33594
URL;VALUE=URI:https://www.diamondhillcdd.org/calendar/6474134/cdd-board-mee
 ting-apr-2025
DTSTART:20250414T180000Z
DTEND:20250414T190000Z
ATTACH;FILENAME=2025-04-14 DHCDD Agenda Package _ REVISED.pdf;FMTTYPE=appli
 cation/pdf:https://campussuite-storage.s3.amazonaws.com/prod/1558889/bc537
 cb2-ea9a-11e9-a44e-0a31933f87ea/2937949/7305364e-1484-11f0-9f25-0affeae232
 1f/file/2025-04-14 DHCDD Agenda Package _ REVISED.pdf
END:VEVENT
END:VCALENDAR
