BEGIN:VCALENDAR
VERSION:2.0
PRODID:SchoolNow
CALSCALE:GREGORIAN
BEGIN:VEVENT
UID:db245d42-655f-11ef-803b-0e30245da09b
DTSTAMP:20250603T204830Z
SUMMARY:CDD Board Meeting- Jun. 2025
LOCATION:Diamond Hill Community Center\, located at 2902 Copper Height Ct\,
  Valrico\, Florida 33594
URL;VALUE=URI:https://www.diamondhillcdd.org/calendar/6474135/cdd-board-mee
 ting-jun-2025
DTSTART:20250609T180000Z
DTEND:20250609T190000Z
ATTACH;FILENAME=2025-06-09 Diamond Hill Agenda Package _ Revised.pdf;FMTTYP
 E=application/pdf:https://campussuite-storage.s3.amazonaws.com/prod/155888
 9/bc537cb2-ea9a-11e9-a44e-0a31933f87ea/2964008/15f3c5ce-40bc-11f0-b38b-026
 2e441cb45/file/2025-06-09 Diamond Hill Agenda Package _ Revised.pdf
END:VEVENT
END:VCALENDAR
