BEGIN:VCALENDAR
VERSION:2.0
PRODID:SchoolNow
CALSCALE:GREGORIAN
BEGIN:VEVENT
UID:e3897e7c-655f-11ef-b8bf-0a58a9feac02
DTSTAMP:20250804T134900Z
SUMMARY:CDD Board Meeting- Aug. 2025
LOCATION:Diamond Hill Community Center\, located at 2902 Copper Height Ct\,
  Valrico\, Florida 33594
URL;VALUE=URI:https://www.diamondhillcdd.org/calendar/6474136/cdd-board-mee
 ting-aug-2025
DTSTART:20250811T180000Z
DTEND:20250811T190000Z
ATTACH;FILENAME=2025-08-11 Diamond Hill CDD Final Agenda Package.pdf;FMTTYP
 E=application/pdf:https://campussuite-storage.s3.amazonaws.com/prod/155888
 9/bc537cb2-ea9a-11e9-a44e-0a31933f87ea/2988314/c3a56210-7139-11f0-a5c5-0a5
 8a9feac02/file/2025-08-11 Diamond Hill CDD Final Agenda Package.pdf
END:VEVENT
END:VCALENDAR
