BEGIN:VCALENDAR
VERSION:2.0
PRODID:SchoolNow
CALSCALE:GREGORIAN
BEGIN:VEVENT
UID:07ef5592-cd12-11ef-a3ef-0a58a9feac02
DTSTAMP:20250107T161119Z
SUMMARY:CDD Board Workshop- Jan. 2025
LOCATION:Diamond Hill Community Center\, located at 2902 Copper Height Ct\,
  Valrico\, Florida 33594
URL;VALUE=URI:https://www.diamondhillcdd.org/calendar/7281317/cdd-board-wor
 kshop-jan-2025
DTSTART:20250113T190000Z
DTEND:20250113T200000Z
END:VEVENT
END:VCALENDAR
