BEGIN:VCALENDAR
VERSION:2.0
PRODID:SchoolNow
CALSCALE:GREGORIAN
BEGIN:VEVENT
UID:4352125a-cd12-11ef-b76e-0a58a9feac02
DTSTAMP:20250107T161259Z
SUMMARY:CDD Board Workshop- Mar. 2025
LOCATION:Diamond Hill Community Center\, located at 2902 Copper Height Ct\,
  Valrico\, Florida 33594
URL;VALUE=URI:https://www.diamondhillcdd.org/calendar/7281341/cdd-board-wor
 kshop-mar-2025
DTSTART:20250310T180000Z
DTEND:20250310T190000Z
END:VEVENT
END:VCALENDAR
