BEGIN:VCALENDAR
VERSION:2.0
PRODID:SchoolNow
CALSCALE:GREGORIAN
BEGIN:VEVENT
UID:744af228-cd12-11ef-8d24-0a58a9feac02
DTSTAMP:20250507T201314Z
SUMMARY:CDD Board Workshop- May 2025
LOCATION:Diamond Hill Community Center\, located at 2902 Copper Height Ct\,
  Valrico\, Florida 33594
URL;VALUE=URI:https://www.diamondhillcdd.org/calendar/7281342/cdd-board-wor
 kshop-may-2025
DTSTART:20250514T180000Z
DTEND:20250514T190000Z
ATTACH;FILENAME=2025-05-14 DHCDD Workshop Agenda Package.pdf;FMTTYPE=applic
 ation/pdf:https://campussuite-storage.s3.amazonaws.com/prod/1558889/bc537c
 b2-ea9a-11e9-a44e-0a31933f87ea/2950637/b1998006-2b7f-11f0-b3e3-0a58a9feac0
 2/file/2025-05-14 DHCDD Workshop Agenda Package.pdf
END:VEVENT
END:VCALENDAR
