BEGIN:VCALENDAR
VERSION:2.0
PRODID:SchoolNow
CALSCALE:GREGORIAN
BEGIN:VEVENT
UID:83b4b8a2-cd12-11ef-af3d-0a58a9feac02
DTSTAMP:20250710T130256Z
SUMMARY:CDD Board Meeting- Jul. 2025
LOCATION:Diamond Hill Community Center\, located at 2902 Copper Height Ct\,
  Valrico\, Florida 33594
URL;VALUE=URI:https://www.diamondhillcdd.org/calendar/7281343/cdd-board-mee
 ting-jul-2025
DTSTART:20250714T180000Z
DTEND:20250714T190000Z
ATTACH;FILENAME=2025-07-14 Diamond Hill CDD Revised Final Agenda Package (1
 ).pdf;FMTTYPE=application/pdf:https://campussuite-storage.s3.amazonaws.com
 /prod/1558889/bc537cb2-ea9a-11e9-a44e-0a31933f87ea/2980206/2f0e7b3c-5d8e-1
 1f0-8c42-0a58a9feac02/file/2025-07-14 Diamond Hill CDD Revised Final Agend
 a Package (1).pdf
END:VEVENT
END:VCALENDAR
