BEGIN:VCALENDAR
VERSION:2.0
PRODID:SchoolNow
CALSCALE:GREGORIAN
BEGIN:VEVENT
UID:959e5ec4-cd12-11ef-9444-0a58a9feac02
DTSTAMP:20250829T173409Z
SUMMARY:CDD Board Meeting- Sept. 2025
LOCATION:Diamond Hill Community Center\, located at 2902 Copper Height Ct\,
  Valrico\, Florida 33594
URL;VALUE=URI:https://www.diamondhillcdd.org/calendar/7281344/cdd-board-mee
 ting-sept-2025
DTSTART:20250908T180000Z
DTEND:20250908T190000Z
ATTACH;FILENAME=2025-09-08 Diamond Hill CDD Final Agenda Package.pdf;FMTTYP
 E=application/pdf:https://campussuite-storage.s3.amazonaws.com/prod/155888
 9/bc537cb2-ea9a-11e9-a44e-0a31933f87ea/3001393/5b3213d0-84fe-11f0-8735-022
 f0e0ac793/file/2025-09-08 Diamond Hill CDD Final Agenda Package.pdf
END:VEVENT
END:VCALENDAR
