BEGIN:VCALENDAR
VERSION:2.0
PRODID:SchoolNow
CALSCALE:GREGORIAN
BEGIN:VEVENT
UID:4798df9c-043a-11f0-8b4d-0afff67e568d
DTSTAMP:20250319T095224Z
SUMMARY:CDD Board Meeting- Mar. 2025
LOCATION:Diamond Hill Community Center\, located at 2902 Copper Height Ct\,
  Valrico\, Florida 33594
URL;VALUE=URI:https://www.diamondhillcdd.org/calendar/7716390/cdd-board-mee
 ting-mar-2025
DTSTART:20250325T180000Z
DTEND:20250325T190000Z
ATTACH;FILENAME=2025-03-25 DHCDD Agenda Package.pdf;FMTTYPE=application/pdf
 :https://campussuite-storage.s3.amazonaws.com/prod/1558889/bc537cb2-ea9a-1
 1e9-a44e-0a31933f87ea/2929290/d69ea556-04a7-11f0-b4f0-0a58a9feac02/file/20
 25-03-25 DHCDD Agenda Package.pdf
END:VEVENT
END:VCALENDAR
