BEGIN:VCALENDAR
VERSION:2.0
PRODID:SchoolNow
CALSCALE:GREGORIAN
BEGIN:VEVENT
UID:84ac54d8-793b-11f0-b272-0e05a2fca2ed
DTSTAMP:20250814T182138Z
SUMMARY:CDD Board Meeting- Oct. 2025
LOCATION:Diamond Hill Community Center\, located at 2902 Copper Height Ct\,
  Valrico\, Florida 33594
URL;VALUE=URI:https://www.diamondhillcdd.org/calendar/8508084/cdd-board-mee
 ting-oct-2025
DTSTART:20251013T180000Z
DTEND:20251013T190000Z
END:VEVENT
END:VCALENDAR
