BEGIN:VCALENDAR
VERSION:2.0
PRODID:SchoolNow
CALSCALE:GREGORIAN
BEGIN:VEVENT
UID:90f7882a-793b-11f0-bc16-0a58a9feac02
DTSTAMP:20251103T220908Z
SUMMARY:CDD Board Meeting- Nov. 2025
LOCATION:Diamond Hill Community Center\, located at 2902 Copper Height Ct\,
  Valrico\, Florida 33594
URL;VALUE=URI:https://www.diamondhillcdd.org/calendar/8508085/cdd-board-mee
 ting-nov-2025
DTSTART:20251110T190000Z
DTEND:20251110T200000Z
ATTACH;FILENAME=2025-11-10 Diamond Hill CDD Final Agenda Package.pdf;FMTTYP
 E=application/pdf:https://campussuite-storage.s3.amazonaws.com/prod/155888
 9/bc537cb2-ea9a-11e9-a44e-0a31933f87ea/3031077/b40d866a-b901-11f0-9fa6-0e0
 58de3dd31/file/2025-11-10 Diamond Hill CDD Final Agenda Package.pdf
END:VEVENT
END:VCALENDAR
